BEGIN:VCALENDAR
VERSION:2.0
PRODID:-//ChamberMaster//Event Calendar 2.0//EN
METHOD:PUBLISH
X-PUBLISHED-TTL:P3D
REFRESH-INTERVAL:P3D
CALSCALE:GREGORIAN
BEGIN:VEVENT
DTSTART:20160526T210000Z
DTEND:20160526T213000Z
X-MICROSOFT-CDO-ALLDAYEVENT:FALSE
SUMMARY:Ribbon Cutting - Boutique 20 Fashions and Gifts
DESCRIPTION:A Ribbon Cutting will be held to celebrate  Boutique 20 Fashions and Gifts' Grand Opening under their new name.  The store will be having giveaways all day starting at 11:00 AM and hors d'oeuvres and refreshments from 5:00 - 8:00 PM.
X-ALT-DESC;FMTTYPE=text/html:A Ribbon Cutting will be held to celebrate &nbsp\;Boutique 20 Fashions and Gifts&#39\; Grand Opening under their new name. &nbsp\;The store will be having giveaways all day starting at 11:00 AM and hors d&#39\;oeuvres and refreshments from 5:00 - 8:00 PM. &nbsp\;
LOCATION:1911 Highway 20 Lawton\, IA
UID:e.769.3283
SEQUENCE:3
DTSTAMP:20260421T201828Z
URL:https://directory.siouxlandchamber.com/events/details/ribbon-cutting-boutique-20-fashions-and-gifts-05-26-2016-3283
END:VEVENT

END:VCALENDAR
