BEGIN:VCALENDAR
VERSION:2.0
PRODID:-//ChamberMaster//Event Calendar 2.0//EN
METHOD:PUBLISH
X-PUBLISHED-TTL:P3D
REFRESH-INTERVAL:P3D
CALSCALE:GREGORIAN
BEGIN:VEVENT
DTSTART:20170502T150000Z
DTEND:20170502T153000Z
X-MICROSOFT-CDO-ALLDAYEVENT:FALSE
SUMMARY:Ribbon Cutting - Boutique 20
DESCRIPTION:Boutique 20 has moved to a new location and will kick off their month long Grand Opening festivities with a Chamber ribbon cutting.  We hope you can join us for refreshments and a little shopping to congratulate Anne Jager on Boutique 20's growth.  They will have Triple Points Tuesday for reward members and you can join that day!
X-ALT-DESC;FMTTYPE=text/html:<span style="font-family:arial narrow\,sans-serif\;"><span style="font-size:12.0pt\;">Boutique 20 has moved to a new location and will kick off their month long Grand Opening festivities with a Chamber ribbon cutting.&nbsp\; We hope you can join us for refreshments and a little shopping to congratulate Anne Jager on Boutique 20&rsquo\;s growth.&nbsp\; They will have Triple Points Tuesday for reward members and you can join that day!&nbsp\;&nbsp\;</span></span>
LOCATION:5700 Sunnybrook Drive Sioux City
UID:e.769.3486
SEQUENCE:3
DTSTAMP:20260419T212640Z
URL:https://directory.siouxlandchamber.com/events/details/ribbon-cutting-boutique-20-3486
END:VEVENT

END:VCALENDAR
