BEGIN:VCALENDAR
VERSION:2.0
PRODID:-//ChamberMaster//Event Calendar 2.0//EN
METHOD:PUBLISH
X-PUBLISHED-TTL:P3D
REFRESH-INTERVAL:P3D
CALSCALE:GREGORIAN
BEGIN:VEVENT
DTSTART:20180323T210000Z
DTEND:20180323T233000Z
X-MICROSOFT-CDO-ALLDAYEVENT:FALSE
SUMMARY:Ribbon Cutting - Bookspring Business Services\, Inc.
DESCRIPTION:We will officially welcome Bookspring Business Services to the Chamber at a ribbon cutting followed by drinks and appetizers until 6:30 PM.  Bookspring Business Services focus on your books so that you can focus on what you do best.
X-ALT-DESC;FMTTYPE=text/html:We will officially welcome Bookspring Business Services to the Chamber at a ribbon cutting followed by drinks and appetizers until 6:30 PM.&nbsp\; Bookspring&nbsp\;Business Services focus on your books so that you can focus on what you do best.&nbsp\;&nbsp\;
LOCATION:520 Pierce Street (Orpheum Bldg) Suite 250 Sioux City
UID:e.769.4665
SEQUENCE:3
DTSTAMP:20260420T120247Z
URL:https://directory.siouxlandchamber.com/events/details/ribbon-cutting-bookspring-business-services-inc-4665
END:VEVENT

END:VCALENDAR
