BEGIN:VCALENDAR
VERSION:2.0
PRODID:-//ChamberMaster//Event Calendar 2.0//EN
METHOD:PUBLISH
X-PUBLISHED-TTL:P3D
REFRESH-INTERVAL:P3D
CALSCALE:GREGORIAN
BEGIN:VEVENT
DTSTART:20160908T213000Z
DTEND:20160908T220000Z
X-MICROSOFT-CDO-ALLDAYEVENT:FALSE
SUMMARY:Ribbon Cutting - Bob Roe's North End Zone
DESCRIPTION:Please help us welcome new Chamber member\, Bob Roe's North End Zone at their upcoming ribbon cutting.  The newest of 3 Bob Roe's locations\, The North End Zone is open every day for lunch and dinner.  Stop by for the ribbon cutting\, be treated to samples of their new pizzas and see why Bob Roe's North End Zone is "Where good times gather"!
X-ALT-DESC;FMTTYPE=text/html:Please help us welcome new Chamber member\, Bob Roe&#39\;s North End Zone at their upcoming ribbon cutting.&nbsp\; The newest of 3 Bob Roe&rsquo\;s locations\, The North End Zone is open every day for lunch and dinner. &nbsp\;Stop by for the ribbon cutting\, be treated to samples of their new pizzas and see why Bob Roe&#39\;s North End Zone is &ldquo\;Where good times gather&rdquo\;!&nbsp\;&nbsp\;
LOCATION:4100 Floyd Boulevard Sioux City
UID:e.769.3327
SEQUENCE:3
DTSTAMP:20260421T130517Z
URL:https://directory.siouxlandchamber.com/events/details/ribbon-cutting-bob-roe-s-north-end-zone-09-08-2016-3327
END:VEVENT

END:VCALENDAR
