BEGIN:VCALENDAR
VERSION:2.0
PRODID:-//ChamberMaster//Event Calendar 2.0//EN
METHOD:PUBLISH
X-PUBLISHED-TTL:P3D
REFRESH-INTERVAL:P3D
CALSCALE:GREGORIAN
BEGIN:VEVENT
DTSTART:20171013T200000Z
DTEND:20171013T203000Z
X-MICROSOFT-CDO-ALLDAYEVENT:FALSE
SUMMARY:Ribbon Cutting - Boatman Tile
DESCRIPTION:New Member\, Boatman Tile & Granite\, will celebrate their new location with an Open House kicked off by a Chamber Ribbon Cutting at 3:00 PM.  Tours\, demonstrations\, hors d'oeuvres and drinks will be available from 3:00 - 7:00 PM.  Boatman is your one-stop for beautiful countertops\, tiles\, and sinks customized for you.
X-ALT-DESC;FMTTYPE=text/html:New Member\, Boatman Tile &amp\; Granite\, will celebrate their new location with an Open House kicked off by a Chamber Ribbon Cutting at 3:00 PM. &nbsp\;Tours\, demonstrations\, hors d&#39\;oeuvres and drinks will be available from 3:00 - 7:00 PM. &nbsp\;Boatman is your one-stop for beautiful countertops\, tiles\, and sinks customized for you.
LOCATION:3313 Northbrook Drive Sioux City
UID:e.769.4570
SEQUENCE:3
DTSTAMP:20260420T044204Z
URL:https://directory.siouxlandchamber.com/events/details/ribbon-cutting-boatman-tile-4570
END:VEVENT

END:VCALENDAR
