BEGIN:VCALENDAR
VERSION:2.0
PRODID:-//ChamberMaster//Event Calendar 2.0//EN
METHOD:PUBLISH
X-PUBLISHED-TTL:P3D
REFRESH-INTERVAL:P3D
CALSCALE:GREGORIAN
BEGIN:VEVENT
DTSTART:20161117T173000Z
DTEND:20161117T180000Z
X-MICROSOFT-CDO-ALLDAYEVENT:FALSE
SUMMARY:Ribbon Cutting - Blue Earth Marketing
DESCRIPTION:Blue Earth Marketing will hold a ribbon cutting to celebrate their recently relocated and expanded offices on the skywalk level of the Ho-Chunk Centre.  An open house with a light lunch will follow.  Blue Earth Marketing\, a subsidiary of Ho-Chunk\, Inc.\, is a full-service marketing\, advertising\, and public relations firm serving clients throughout the Midwest.  They invite you to tour their new offices and view select art gallery pieces from collections on Native American art\, nature\, contemporary\, and historical art of Sioux City during the open house.
X-ALT-DESC;FMTTYPE=text/html:Blue Earth Marketing will hold a ribbon cutting to celebrate their recently relocated and expanded offices on the skywalk level of the Ho-Chunk Centre. &nbsp\;An open house with a light lunch will follow. &nbsp\;Blue Earth Marketing\, a subsidiary of Ho-Chunk\, Inc.\, is a full-service marketing\, advertising\, and public relations firm serving clients throughout the Midwest. &nbsp\;They invite you to tour their new offices and view select art gallery pieces from collections on Native American art\, nature\, contemporary\, and historical art of Sioux City during the open house.
LOCATION:Ho-Chunk Centre 600 4th Street\, Suite 201
UID:e.769.3342
SEQUENCE:3
DTSTAMP:20260419T134638Z
URL:https://directory.siouxlandchamber.com/events/details/ribbon-cutting-blue-earth-marketing-3342
END:VEVENT

END:VCALENDAR
