BEGIN:VCALENDAR
VERSION:2.0
PRODID:-//ChamberMaster//Event Calendar 2.0//EN
METHOD:PUBLISH
X-PUBLISHED-TTL:P3D
REFRESH-INTERVAL:P3D
CALSCALE:GREGORIAN
BEGIN:VEVENT
DTSTART:20160607T160000Z
DTEND:20160607T163000Z
X-MICROSOFT-CDO-ALLDAYEVENT:FALSE
SUMMARY:Ribbon Cutting - Blue Cafe (SC Conservatory of Music)
DESCRIPTION:The Sioux City Conservatory of Music is celebrating the opening of the Blue Cafe\, a small eatery where local and national acts will occasionally perform.  Please join the celebration and hear about future expansion the Conservatory is pursuing as well.
X-ALT-DESC;FMTTYPE=text/html:The Sioux City Conservatory of Music is celebrating the opening of the Blue Cafe\, a small eatery where local and national acts will occasionally perform. &nbsp\;Please join the celebration and hear about future expansion the Conservatory is pursuing as well.
LOCATION:1301 Pierce Street Sioux City
UID:e.769.3268
SEQUENCE:3
DTSTAMP:20260421T174654Z
URL:https://directory.siouxlandchamber.com/events/details/ribbon-cutting-blue-cafe-sc-conservatory-of-music-06-07-2016-3268
END:VEVENT

END:VCALENDAR
