BEGIN:VCALENDAR
VERSION:2.0
PRODID:-//ChamberMaster//Event Calendar 2.0//EN
METHOD:PUBLISH
X-PUBLISHED-TTL:P3D
REFRESH-INTERVAL:P3D
CALSCALE:GREGORIAN
BEGIN:VEVENT
DTSTART:20161121T203000Z
DTEND:20161121T210000Z
X-MICROSOFT-CDO-ALLDAYEVENT:FALSE
SUMMARY:Ribbon Cutting - Bishop Heelan Wrestling Room
DESCRIPTION:Bishop Heelan Catholic High School and the Siouxland Chamber of Commerce invite you to a ribbon cutting where Heelan will officially present their brand new Wrestling Room and formally welcome their new Head Wrestling Coach\, Scot Davis.  Heelan Wrestling alumni\, former coaches\, and boosters have also been invited with many expected to attend.\n\n\n\nAs no street shoes will be permitted on the brand new mats in this wrestling room\, we respectfully request that you consider wearing shoes that you can easily remove\, so that you can fully enter and tour the new facility.
X-ALT-DESC;FMTTYPE=text/html:Bishop Heelan Catholic High School and the Siouxland Chamber of Commerce invite you to a ribbon cutting where&nbsp\;Heelan will officially present their brand new Wrestling Room and formally welcome their new Head Wrestling Coach\, Scot Davis.&nbsp\; Heelan Wrestling alumni\, former coaches\, and boosters have also been invited with many expected to attend.<br />\n<br />\nAs no street shoes will be permitted on the brand new mats in this wrestling room\, we respectfully request that you consider wearing shoes that you can easily remove\, so that you can fully enter and tour the new facility.&nbsp\;
LOCATION:Bishop Heelan CYO 1021 Douglas Sioux City
UID:e.769.3416
SEQUENCE:3
DTSTAMP:20260419T151805Z
URL:https://directory.siouxlandchamber.com/events/details/ribbon-cutting-bishop-heelan-wrestling-room-3416
END:VEVENT

END:VCALENDAR
