BEGIN:VCALENDAR
VERSION:2.0
PRODID:-//ChamberMaster//Event Calendar 2.0//EN
METHOD:PUBLISH
X-PUBLISHED-TTL:P3D
REFRESH-INTERVAL:P3D
CALSCALE:GREGORIAN
BEGIN:VEVENT
DTSTART:20161025T150000Z
DTEND:20161025T160000Z
X-MICROSOFT-CDO-ALLDAYEVENT:FALSE
SUMMARY:Ribbon Cutting - Bishop Heelan Administrative Building
DESCRIPTION:Bishop Heelan Catholic Schools will hold a ribbon cutting  to celebrate the opening of the new Father Patrick Walsh Administration Building.  Prior to the ribbon cutting a Blessing of Construction Workers will be held at 10:00 AM at the Bishop Heelan High School Academic Building site.  Please join us in congratulating Bishop Heelan on their progress.  Refreshments of coffee and muffins will be served.
X-ALT-DESC;FMTTYPE=text/html:Bishop Heelan&nbsp\;Catholic Schools will hold a ribbon cutting &nbsp\;to celebrate the opening of the&nbsp\;new Father Patrick Walsh Administration Building. &nbsp\;Prior to the ribbon cutting a Blessing of Construction Workers will be held at 10:00 AM at the Bishop Heelan High School Academic Building site. &nbsp\;Please join us in congratulating Bishop Heelan on their progress. &nbsp\;Refreshments of coffee and muffins will be served.
LOCATION:12th and Grandview Blvd (West of Heelan's Fine Arts Building) Sioux City
UID:e.769.3391
SEQUENCE:3
DTSTAMP:20260421T114458Z
URL:https://directory.siouxlandchamber.com/events/details/ribbon-cutting-bishop-heelan-administrative-building-3391
END:VEVENT

END:VCALENDAR
