BEGIN:VCALENDAR
VERSION:2.0
PRODID:-//ChamberMaster//Event Calendar 2.0//EN
METHOD:PUBLISH
X-PUBLISHED-TTL:P3D
REFRESH-INTERVAL:P3D
CALSCALE:GREGORIAN
BEGIN:VEVENT
DTSTART:20180514T200000Z
DTEND:20180514T203000Z
X-MICROSOFT-CDO-ALLDAYEVENT:FALSE
SUMMARY:Ribbon Cutting - Bishop Heelan Academic Wing
DESCRIPTION:Bishop Heelan Catholic High School invites you to a Ribbon Cutting celebrating the completion of their new Academic Classroom Addition.  The 55\,000 square foot\, two-floor building features 29 classrooms\, three breakout study rooms for collaborative work\, a media center\, an elevator and spacious stairways.  Please join us in congratulating Heelan on their new improvements.
X-ALT-DESC;FMTTYPE=text/html:Bishop Heelan&nbsp\;Catholic High School invites you to a Ribbon Cutting celebrating the completion of their new Academic Classroom Addition.&nbsp\; The 55\,000 square foot\, two-floor building features 29 classrooms\, three breakout study rooms for collaborative work\, a media center\, an elevator and spacious stairways.&nbsp\; Please join us in congratulating Heelan on their new improvements.&nbsp\;&nbsp\;
LOCATION:1213 Grandview Boulevard Sioux City
UID:e.769.4717
SEQUENCE:3
DTSTAMP:20260420T145749Z
URL:https://directory.siouxlandchamber.com/events/details/ribbon-cutting-bishop-heelan-academic-wing-4717
END:VEVENT

END:VCALENDAR
