BEGIN:VCALENDAR
VERSION:2.0
PRODID:-//ChamberMaster//Event Calendar 2.0//EN
METHOD:PUBLISH
X-PUBLISHED-TTL:P3D
REFRESH-INTERVAL:P3D
CALSCALE:GREGORIAN
BEGIN:VEVENT
DTSTART:20160929T160000Z
DTEND:20160929T163000Z
X-MICROSOFT-CDO-ALLDAYEVENT:FALSE
SUMMARY:Ribbon Cutting - Big Frig
DESCRIPTION:Please join the Siouxland Chamber as we give an official welcome to new member Big Frig with a ribbon cutting ceremony.  Big Frig provides high quality\, stainless steel\, double-wall\, vacuum sealed tumblers that stay hot or cold for hours AND Big Frig has just announced the launch of their Denali Cooler Series.  Come hear more about these great products.  Free food\, beverages and giveaways all day!
X-ALT-DESC;FMTTYPE=text/html:<span style="font-family:arial narrow\,sans-serif\;">Please join the Siouxland Chamber as we give an official welcome to new member Big Frig with a ribbon cutting ceremony.&nbsp\; Big Frig provides high quality\, stainless steel\, double-wall\, vacuum sealed tumblers that stay hot or cold for hours AND Big Frig has just announced the launch of their Denali Cooler Series.&nbsp\; Come hear more about these great products.&nbsp\; Free food\, beverages and giveaways all day!</span>
LOCATION:558 River Drive North Sioux City\, SD
UID:e.769.3334
SEQUENCE:3
DTSTAMP:20260421T130251Z
URL:https://directory.siouxlandchamber.com/events/details/ribbon-cutting-big-frig-3334
END:VEVENT

END:VCALENDAR
