BEGIN:VCALENDAR
VERSION:2.0
PRODID:-//ChamberMaster//Event Calendar 2.0//EN
METHOD:PUBLISH
X-PUBLISHED-TTL:P3D
REFRESH-INTERVAL:P3D
CALSCALE:GREGORIAN
BEGIN:VEVENT
DTSTART:20170512T210000Z
DTEND:20170512T220000Z
X-MICROSOFT-CDO-ALLDAYEVENT:FALSE
SUMMARY:Ribbon Cutting - Big Deal Auto Plaza
DESCRIPTION:Big Deal Auto Plaza will hold a ribbon cutting to celebrate their new Chamber membership and 30th Anniversary.  The ribbon cutting will be followed by appetizers and drinks.  With a huge  variety of vehicles with  well-maintained\, quality options\, and their own financing available\, Big Deal Auto Plaza has a deal for you and they make it simple.
X-ALT-DESC;FMTTYPE=text/html:Big Deal Auto Plaza will hold a ribbon cutting to celebrate their new Chamber membership and 30th Anniversary. &nbsp\;The ribbon cutting will be followed by appetizers and drinks. &nbsp\;With a huge &nbsp\;variety of vehicles with &nbsp\;well-maintained\, quality options\, and their own financing available\, Big Deal Auto Plaza has a deal for you and they make it simple.
LOCATION:524 S Lewis Boulevard Sioux City
UID:e.769.3483
SEQUENCE:3
DTSTAMP:20260419T213808Z
URL:https://directory.siouxlandchamber.com/events/details/ribbon-cutting-big-deal-auto-plaza-3483
END:VEVENT

END:VCALENDAR
