BEGIN:VCALENDAR
VERSION:2.0
PRODID:-//ChamberMaster//Event Calendar 2.0//EN
METHOD:PUBLISH
X-PUBLISHED-TTL:P3D
REFRESH-INTERVAL:P3D
CALSCALE:GREGORIAN
BEGIN:VEVENT
DTSTART:20180518T180000Z
DTEND:20180518T183000Z
X-MICROSOFT-CDO-ALLDAYEVENT:FALSE
SUMMARY:Ribbon Cutting - Big Brothers Big Sisters of Siouxland
DESCRIPTION:A Ribbon Cutting will commemorate the 40th Anniversary of Big Brothers Big Sisters of Siouxland and kick off their effort to recruit 40 bigs in 40 days!  Please join the Siouxland and South Sioux Chambers in honoring Big Brothers and Big Sisters and all the good they do for Siouxland's youth.  Refreshments will follow the event.
X-ALT-DESC;FMTTYPE=text/html:A Ribbon Cutting will commemorate the 40th Anniversary of Big Brothers Big Sisters of Siouxland and kick off their effort to recruit 40 bigs in 40 days!&nbsp\; Please join the Siouxland and South Sioux Chambers in honoring Big Brothers and Big Sisters and all the good they do for Siouxland&#39\;s&nbsp\;youth.&nbsp\; Refreshments will follow the event.
LOCATION:3650 Glen Oaks Boulevard Sioux City
UID:e.769.4707
SEQUENCE:3
DTSTAMP:20260420T150358Z
URL:https://directory.siouxlandchamber.com/events/details/ribbon-cutting-big-brothers-big-sisters-of-siouxland-4707
END:VEVENT

END:VCALENDAR
