BEGIN:VCALENDAR
VERSION:2.0
PRODID:-//ChamberMaster//Event Calendar 2.0//EN
METHOD:PUBLISH
X-PUBLISHED-TTL:P3D
REFRESH-INTERVAL:P3D
CALSCALE:GREGORIAN
BEGIN:VEVENT
DTSTART:20170403T213000Z
DTEND:20170403T220000Z
X-MICROSOFT-CDO-ALLDAYEVENT:FALSE
SUMMARY:Ribbon Cutting - Bespoke Salon
DESCRIPTION:Join us for a ribbon cutting where we will welcome new member Bespoke Salon to the Chamber.  Following the ribbon cutting they will host an Open House with refreshments until 7:00 PM including complimentary gifts and drawings! Bespoke Salon is a full service hair salon with expert stylists committed to creating an unparalleled salon experience for every client. Every detail of their service is uniquely tailored and meticulously crafted.
X-ALT-DESC;FMTTYPE=text/html:<span style="font-family:arial narrow\,sans-serif\;"><span style="font-size:10pt\;">Join us for a ribbon cutting where we will welcome new member Bespoke Salon to the Chamber. &nbsp\;Following the ribbon cutting they will host an Open House with refreshments until 7:00 PM including complimentary gifts and drawings! Bespoke Salon is a full service hair salon with expert stylists committed to creating an unparalleled salon experience for every client. Every detail of their service is uniquely tailored and meticulously crafted.</span></span>
LOCATION:422 5th Street Sioux City\, IA
UID:e.769.3460
SEQUENCE:3
DTSTAMP:20260419T195359Z
URL:https://directory.siouxlandchamber.com/events/details/ribbon-cutting-bespoke-salon-3460
END:VEVENT

END:VCALENDAR
