BEGIN:VCALENDAR
VERSION:2.0
PRODID:-//ChamberMaster//Event Calendar 2.0//EN
METHOD:PUBLISH
X-PUBLISHED-TTL:P3D
REFRESH-INTERVAL:P3D
CALSCALE:GREGORIAN
BEGIN:VEVENT
DTSTART:20200102T204500Z
DTEND:20200102T211500Z
X-MICROSOFT-CDO-ALLDAYEVENT:FALSE
SUMMARY:Ribbon Cutting - Belle Salon & Spa - Lakeport
DESCRIPTION:Please join us in celebrating the new owners of Belle Salon & Spa with a dual Ribbon Cutting. The first Ribbon Cutting will take place at the downtown location at 2 pm with the Ribbon Cutting at the Lakeport Commons location at approximately 2:45 pm.
X-ALT-DESC;FMTTYPE=text/html:<span style="background:white\;"><span style="color:#333333\;"><span style="font-family:arial\,sans-serif\;"><span style="font-size:10.0pt\;">Please join us in celebrating the new owners of Belle Salon &amp\; Spa with a dual Ribbon Cutting. The first Ribbon Cutting will take place at the downtown location at 2 pm with the Ribbon Cutting at the Lakeport Commons location at approximately 2:45 pm.</span></span></span></span>
LOCATION:5001 Sergeant Road Suite 290 Sioux City\, IA 51106
UID:e.769.5276
SEQUENCE:3
DTSTAMP:20260421T224554Z
URL:https://directory.siouxlandchamber.com/events/details/ribbon-cutting-belle-salon-spa-lakeport-5276
END:VEVENT

END:VCALENDAR
