BEGIN:VCALENDAR
VERSION:2.0
PRODID:-//ChamberMaster//Event Calendar 2.0//EN
METHOD:PUBLISH
X-PUBLISHED-TTL:P3D
REFRESH-INTERVAL:P3D
CALSCALE:GREGORIAN
BEGIN:VEVENT
DTSTART:20200102T200000Z
DTEND:20200102T203000Z
X-MICROSOFT-CDO-ALLDAYEVENT:FALSE
SUMMARY:Ribbon Cutting - Belle Salon & Spa
DESCRIPTION:Please join us in celebrating the new owners of Belle Salon & Spa with a dual Ribbon Cutting. The first Ribbon Cutting will take place at the downtown location at 2 pm with the Ribbon Cutting at the Lakeport Commons location at approximately 2:45 pm.
X-ALT-DESC;FMTTYPE=text/html:Please join us in celebrating the new owners of Belle Salon &amp\; Spa with a dual Ribbon Cutting. The first Ribbon Cutting will take place at the downtown location at 2 pm with the Ribbon Cutting at the Lakeport Commons location at approximately 2:45 pm.
LOCATION:1101 4th Street 2nd Floor Sioux City\, IA 51101
UID:e.769.5275
SEQUENCE:3
DTSTAMP:20260421T211434Z
URL:https://directory.siouxlandchamber.com/events/details/ribbon-cutting-belle-salon-spa-5275
END:VEVENT

END:VCALENDAR
