BEGIN:VCALENDAR
VERSION:2.0
PRODID:-//ChamberMaster//Event Calendar 2.0//EN
METHOD:PUBLISH
X-PUBLISHED-TTL:P3D
REFRESH-INTERVAL:P3D
CALSCALE:GREGORIAN
BEGIN:VEVENT
DTSTART:20160304T223000Z
DTEND:20160304T230000Z
X-MICROSOFT-CDO-ALLDAYEVENT:FALSE
SUMMARY:Ribbon Cutting - {be} Studio
DESCRIPTION:New Chamber Member\, {be} Studio\, Siouxland's newest yoga studio\, will be having a Ribbon Cutting Friday\, March 4th at 4:30 pm.  Please come and help us welcome {be} Studio to the Chamber!
X-ALT-DESC;FMTTYPE=text/html:New Chamber Member\, {<em>be} Studio</em>\, Siouxland&#39\;s newest yoga studio\, will be having a Ribbon Cutting Friday\, March 4th at 4:30 pm. &nbsp\;Please come and help us welcome {<em>be} Studio</em> to the Chamber!
LOCATION:1101 4th Street\, Suite 3E Sioux City
UID:e.769.3241
SEQUENCE:3
DTSTAMP:20260421T184158Z
URL:https://directory.siouxlandchamber.com/events/details/ribbon-cutting-be-studio-03-04-2016-3241
END:VEVENT

END:VCALENDAR
