BEGIN:VCALENDAR
VERSION:2.0
PRODID:-//ChamberMaster//Event Calendar 2.0//EN
METHOD:PUBLISH
X-PUBLISHED-TTL:P3D
REFRESH-INTERVAL:P3D
CALSCALE:GREGORIAN
BEGIN:VEVENT
DTSTART:20160815T190000Z
DTEND:20160815T193000Z
X-MICROSOFT-CDO-ALLDAYEVENT:FALSE
SUMMARY:Ribbon Cutting - Barth Family Chiropractic
DESCRIPTION:Please join us at a ribbon cutting ceremony where we will welcome Barth Family Chiropractic as a new Chamber Member.  This new Chiropractic clinic provides quality health care with focuses on diet\, exercise\, personal injury\, pregnancy\, colic\, migraines\, low back pain\, neck pain\, Fibromyalgia and many more conditions.  Please join us to welcome Dr. Jerad Barth and his team to the Chamber and congratulate them on their new business.
X-ALT-DESC;FMTTYPE=text/html:Please join us at a ribbon cutting ceremony where we will welcome&nbsp\;Barth Family Chiropractic as a new Chamber Member. &nbsp\;This new Chiropractic clinic provides quality health care with focuses on diet\, exercise\, personal injury\, pregnancy\, colic\, migraines\, low back pain\, neck pain\, Fibromyalgia and many more conditions. &nbsp\;Please join us to welcome Dr. Jerad Barth and his team to the Chamber and congratulate them on their new business.
LOCATION:3539 Southern Hills Drive\, Suite 4 Sioux City
UID:e.769.3319
SEQUENCE:3
DTSTAMP:20260421T161406Z
URL:https://directory.siouxlandchamber.com/events/details/ribbon-cutting-barth-family-chiropractic-08-15-2016-3319
END:VEVENT

END:VCALENDAR
