BEGIN:VCALENDAR
VERSION:2.0
PRODID:-//ChamberMaster//Event Calendar 2.0//EN
METHOD:PUBLISH
X-PUBLISHED-TTL:P3D
REFRESH-INTERVAL:P3D
CALSCALE:GREGORIAN
BEGIN:VEVENT
DTSTART:20170928T190000Z
DTEND:20170928T193000Z
X-MICROSOFT-CDO-ALLDAYEVENT:FALSE
SUMMARY:Ribbon Cutting - Ave Medical Laser Spa
DESCRIPTION:Ave Medical Laser Spa is celebrating its Grand Opening at their new location on Historic 4th Street.  A Chamber Ribbon Cutting will begin the festivities.  Ave Medical Laser Spa specializes in skin and body rejuvenation and the treatment of numerous conditions.
X-ALT-DESC;FMTTYPE=text/html:Ave Medical Laser Spa is celebrating its Grand Opening at their new location on Historic 4th Street. &nbsp\;A Chamber Ribbon Cutting will begin the festivities. &nbsp\;Ave Medical Laser Spa specializes in skin and body rejuvenation and the treatment of numerous conditions. &nbsp\;
LOCATION:1201 Historic 4th Street Sioux City\, IA
UID:e.769.4571
SEQUENCE:3
DTSTAMP:20260420T044450Z
URL:https://directory.siouxlandchamber.com/events/details/ribbon-cutting-ave-medical-laser-spa-4571
END:VEVENT

END:VCALENDAR
