BEGIN:VCALENDAR
VERSION:2.0
PRODID:-//ChamberMaster//Event Calendar 2.0//EN
METHOD:PUBLISH
X-PUBLISHED-TTL:P3D
REFRESH-INTERVAL:P3D
CALSCALE:GREGORIAN
BEGIN:VEVENT
DTSTART:20150814T151500Z
DTEND:20150814T154500Z
X-MICROSOFT-CDO-ALLDAYEVENT:FALSE
SUMMARY:Ribbon cutting at Siouxland Federal Credit Union-South Sioux location
DESCRIPTION:The new addition to Siouxland Federal Credit Union's South Sioux location is now open and a ribbon cutting will be held to celebrate.
X-ALT-DESC;FMTTYPE=text/html:The new addition to Siouxland Federal Credit Union&#39\;s South Sioux location is now open and a ribbon cutting will be held to celebrate.
LOCATION:3000 Plaza Drive in South Sioux City\, Nebraska
UID:e.769.2152
SEQUENCE:3
DTSTAMP:20260421T143948Z
URL:https://directory.siouxlandchamber.com/events/details/ribbon-cutting-at-siouxland-federal-credit-union-south-sioux-location-08-14-2015-2152
END:VEVENT

END:VCALENDAR
