BEGIN:VCALENDAR
VERSION:2.0
PRODID:-//ChamberMaster//Event Calendar 2.0//EN
METHOD:PUBLISH
X-PUBLISHED-TTL:P3D
REFRESH-INTERVAL:P3D
CALSCALE:GREGORIAN
BEGIN:VEVENT
DTSTART:20151016T210000Z
DTEND:20151016T213000Z
X-MICROSOFT-CDO-ALLDAYEVENT:FALSE
SUMMARY:Ribbon Cutting at Short Staffed Inc
DESCRIPTION:A ribbon cutting and open house will be held at Short Staffed\, Inc. to celebrate their new location.
X-ALT-DESC;FMTTYPE=text/html:A ribbon cutting and open house will be held at Short Staffed\, Inc. to celebrate their new location.
LOCATION:818 5th Street (across from Mercy Medical Center)
UID:e.769.2164
SEQUENCE:3
DTSTAMP:20260421T114728Z
URL:https://directory.siouxlandchamber.com/events/details/ribbon-cutting-at-short-staffed-inc-10-16-2015-2164
END:VEVENT

END:VCALENDAR
