BEGIN:VCALENDAR
VERSION:2.0
PRODID:-//ChamberMaster//Event Calendar 2.0//EN
METHOD:PUBLISH
X-PUBLISHED-TTL:P3D
REFRESH-INTERVAL:P3D
CALSCALE:GREGORIAN
BEGIN:VEVENT
DTSTART:20150912T200000Z
DTEND:20150912T210000Z
X-MICROSOFT-CDO-ALLDAYEVENT:FALSE
SUMMARY:Ribbon Cutting at Miracle Field Park
DESCRIPTION:A ribbon cutting will be held for the grand opening of Miracle Field Park.
X-ALT-DESC;FMTTYPE=text/html:A ribbon cutting will be held for the grand opening of Miracle Field Park.
LOCATION:Riverside Park. Enter the Park across from the Casey's and follow the road to the left\, all the way to the west end of the complex.
UID:e.769.2166
SEQUENCE:3
DTSTAMP:20260421T131423Z
URL:https://directory.siouxlandchamber.com/events/details/ribbon-cutting-at-miracle-field-park-09-12-2015-2166
END:VEVENT

END:VCALENDAR
