BEGIN:VCALENDAR
VERSION:2.0
PRODID:-//ChamberMaster//Event Calendar 2.0//EN
METHOD:PUBLISH
X-PUBLISHED-TTL:P3D
REFRESH-INTERVAL:P3D
CALSCALE:GREGORIAN
BEGIN:VEVENT
DTSTART:20170919T213000Z
DTEND:20170919T220000Z
X-MICROSOFT-CDO-ALLDAYEVENT:FALSE
SUMMARY:Ribbon Cutting - Antidote 71
DESCRIPTION:Antidote 71\, formerly JD Gordon Creative Labs\, has moved to the Ho-Chunk Centre and will celebrate with a Ribbon Cutting followed by a social hour until 7:00 PM.  Antidote 71 has a passion for great advertising and marketing.  They live to understand their clients' customers and to connect with them to drive business for their clients.  Join the celebration\, get a look at the new office\, and network with friends and colleagues.
X-ALT-DESC;FMTTYPE=text/html:<span style="font-family:arial narrow\,sans-serif\;"><span style="font-size:11.0pt\;">Antidote 71\, formerly JD Gordon Creative Labs\, has moved to the Ho-Chunk Centre and will celebrate with a Ribbon Cutting followed by a social hour until 7:00 PM.&nbsp\; Antidote 71 has a passion for great advertising and marketing.&nbsp\; They live to understand their clients&rsquo\; customers and to connect with them to drive business for their clients.&nbsp\; Join the celebration\, get a look at the new office\, and network with friends and colleagues.</span></span>
LOCATION:Ho-Chunk Centre 600 4th Street\, Suite 227
UID:e.769.3544
SEQUENCE:3
DTSTAMP:20260420T033000Z
URL:https://directory.siouxlandchamber.com/events/details/ribbon-cutting-antidote-71-3544
END:VEVENT

END:VCALENDAR
