BEGIN:VCALENDAR
VERSION:2.0
PRODID:-//ChamberMaster//Event Calendar 2.0//EN
METHOD:PUBLISH
X-PUBLISHED-TTL:P3D
REFRESH-INTERVAL:P3D
CALSCALE:GREGORIAN
BEGIN:VEVENT
DTSTART:20150211T170000Z
DTEND:20150212T053000Z
X-MICROSOFT-CDO-ALLDAYEVENT:FALSE
SUMMARY:Ribbon Cutting and Open House for QPS Employment Group
DESCRIPTION:QPS Employment Group invites you to join them at their new location for a ribbon cutting and open house.
X-ALT-DESC;FMTTYPE=text/html:QPS Employment Group invites you to join them at their new location for a ribbon cutting and open house.
LOCATION:4700 Gordon Drive
UID:e.769.2084
SEQUENCE:3
DTSTAMP:20260421T214833Z
URL:https://directory.siouxlandchamber.com/events/details/ribbon-cutting-and-open-house-for-qps-employment-group-02-11-2015-2084
END:VEVENT

END:VCALENDAR
