BEGIN:VCALENDAR
VERSION:2.0
PRODID:-//ChamberMaster//Event Calendar 2.0//EN
METHOD:PUBLISH
X-PUBLISHED-TTL:P3D
REFRESH-INTERVAL:P3D
CALSCALE:GREGORIAN
BEGIN:VEVENT
DTSTART:20150902T180000Z
DTEND:20150902T190000Z
X-MICROSOFT-CDO-ALLDAYEVENT:FALSE
SUMMARY:Ribbon Cutting and Open House for Pacific City Graphics
DESCRIPTION:Pacific City Graphic's is celebrating their 30th Anniversary with a ribbon cutting and open house.
X-ALT-DESC;FMTTYPE=text/html:Pacific City Graphic&#39\;s is celebrating their 30th Anniversary with a ribbon cutting and open house.
LOCATION:3301 Daniels Lane in South Sioux City\, Nebraska
UID:e.769.2157
SEQUENCE:3
DTSTAMP:20260421T131447Z
URL:https://directory.siouxlandchamber.com/events/details/ribbon-cutting-and-open-house-for-pacific-city-graphics-09-02-2015-2157
END:VEVENT

END:VCALENDAR
