BEGIN:VCALENDAR
VERSION:2.0
PRODID:-//ChamberMaster//Event Calendar 2.0//EN
METHOD:PUBLISH
X-PUBLISHED-TTL:P3D
REFRESH-INTERVAL:P3D
CALSCALE:GREGORIAN
BEGIN:VEVENT
DTSTART:20150922T210000Z
DTEND:20150923T000000Z
X-MICROSOFT-CDO-ALLDAYEVENT:FALSE
SUMMARY:Ribbon Cutting and Open House for Athletico Physical Therapy
DESCRIPTION:A ribbon cutting and open house will be held at Athletico Physical Therapy\, to celebrate the opening of their new office in Siouxland.
X-ALT-DESC;FMTTYPE=text/html:A ribbon cutting and open house will be held at Athletico&nbsp\;Physical Therapy\, to celebrate the opening of their new office in Siouxland.
LOCATION:317 Dakota Dunes Blvd.\, Ste. J\, Dakota Dunes\, SD
UID:e.769.2165
SEQUENCE:3
DTSTAMP:20260421T131451Z
URL:https://directory.siouxlandchamber.com/events/details/ribbon-cutting-and-open-house-for-athletico-physical-therapy-09-22-2015-2165
END:VEVENT

END:VCALENDAR
