BEGIN:VCALENDAR
VERSION:2.0
PRODID:-//ChamberMaster//Event Calendar 2.0//EN
METHOD:PUBLISH
X-PUBLISHED-TTL:P3D
REFRESH-INTERVAL:P3D
CALSCALE:GREGORIAN
BEGIN:VEVENT
DTSTART:20171024T220000Z
DTEND:20171024T223000Z
X-MICROSOFT-CDO-ALLDAYEVENT:FALSE
SUMMARY:Ribbon Cutting and Open House - Council on Sexual Assault & Domestic Violence
DESCRIPTION:The Council on Sexual Assault & Domestic Violence will celebrate their new administrative offices at an upcoming Open House from 4:00-6:00 PM with a Ribbon Cutting at 5:00 PM.  The CSADV is a private\, non profit agency that is dedicated to helping victims of sexual assault\, domestic violence and homicide become empowered in their quest for dignity and self-respect.  The purpose of CSADV's program is to provide a central agency where victims can receive assistance\, reassurance\, support\, and a sense of stability.
X-ALT-DESC;FMTTYPE=text/html:The Council on Sexual Assault &amp\; Domestic Violence will celebrate their new administrative offices at an upcoming Open House from 4:00-6:00 PM with a Ribbon Cutting at 5:00 PM. &nbsp\;The CSADV is a private\, non profit agency that is dedicated to helping victims of sexual assault\, domestic violence and homicide become empowered in their quest for dignity and self-respect. &nbsp\;The purpose of CSADV&#39\;s program is to provide a central agency where victims can receive assistance\, reassurance\, support\, and a sense of stability.
LOCATION:1723 Grandview Boulevard Sioux City
UID:e.769.4588
SEQUENCE:3
DTSTAMP:20260420T044633Z
URL:https://directory.siouxlandchamber.com/events/details/ribbon-cutting-and-open-house-council-on-sexual-assault-domestic-violence-4588
END:VEVENT

END:VCALENDAR
