BEGIN:VCALENDAR
VERSION:2.0
PRODID:-//ChamberMaster//Event Calendar 2.0//EN
METHOD:PUBLISH
X-PUBLISHED-TTL:P3D
REFRESH-INTERVAL:P3D
CALSCALE:GREGORIAN
BEGIN:VEVENT
DTSTART:20160505T190000Z
DTEND:20160505T203000Z
X-MICROSOFT-CDO-ALLDAYEVENT:FALSE
SUMMARY:Ribbon Cutting and First Flight Fiesta at the Sioux Gateway Airport
DESCRIPTION:Ribbon cutting at 2:30 PM at the Sioux Gateway Airport celebrating American Airlines' new non-stop flight from Sioux City to Dallas/Ft. Worth.  First Flight Fiesta from 2:00 PM to 3:30 PM
X-ALT-DESC;FMTTYPE=text/html:Ribbon cutting at 2:30 PM at the Sioux Gateway Airport celebrating American Airlines&#39\; new non-stop flight from Sioux City to Dallas/Ft. Worth. &nbsp\;First Flight Fiesta from 2:00 PM to 3:30 PM
LOCATION:Sioux Gateway Airport
UID:e.769.3261
SEQUENCE:3
DTSTAMP:20260421T190028Z
URL:https://directory.siouxlandchamber.com/events/details/ribbon-cutting-and-first-flight-fiesta-at-the-sioux-gateway-airport-05-05-2016-3261
END:VEVENT

END:VCALENDAR
