BEGIN:VCALENDAR
VERSION:2.0
PRODID:-//ChamberMaster//Event Calendar 2.0//EN
METHOD:PUBLISH
X-PUBLISHED-TTL:P3D
REFRESH-INTERVAL:P3D
CALSCALE:GREGORIAN
BEGIN:VEVENT
DTSTART:20170606T150000Z
DTEND:20170606T153000Z
X-MICROSOFT-CDO-ALLDAYEVENT:FALSE
SUMMARY:Ribbon Cutting - Alzheimer's Association
DESCRIPTION:June is Alzheimer's Awareness Month.  In recognition of this\, the Alzheimer's Association will hold a ribbon cutting to kick off a month of activities to support\, educate and create awareness of alzheimer's disease.  A reception will follow the ceremony.   \n\nAlso\, please support their events throughout the month of June (more info @ alz.org/greateriowa):\n6/4- Explorers Alzheimer's Awareness Night\n\n6/6- Chamber Coffee- Open House to our NEW location 1315 Zenith Drive Suite B Sioux City 51103\n\n6/6- Chipotle Fundraiser\n\n6/21 Dairy Queen Blizzard Fundraiser .50 cents of signature blizzard will come back to ALZ Assoc. \n\n6/22 Alzheimer's & Dementia Conference featuring Jolene Brackey at WITCC Campus
X-ALT-DESC;FMTTYPE=text/html:<span style="font-family:arial narrow\,sans-serif\;"><span style="font-size:12.0pt\;">June is Alzheimer&#39\;s Awareness Month.&nbsp\; In recognition of this\, the Alzheimer&rsquo\;s Association will hold a ribbon cutting to kick off a month of activities to support\, educate and create awareness of alzheimer&rsquo\;s disease.&nbsp\; A reception will follow the ceremony. &nbsp\;&nbsp\;<br />\nAlso\, please support their events throughout the month of June (more info @ <a href="http://alz.org/greateriowa/">alz.org/greateriowa</a>):</span></span>\n<div style="margin-left: 40px\;"><strong>6/4- Explorers Alzheimer&#39\;s Awareness Night</strong><br />\n<strong>6/6- Chamber Coffee- Open House to our NEW location 1315 Zenith Drive Suite B Sioux City 51103</strong><br />\n<strong>6/6- Chipotle Fundraiser</strong><br />\n<strong>6/21 Dairy Queen Blizzard Fundraiser .50 cents of signature&nbsp\;blizzard will come back to ALZ Assoc. </strong><br />\n<strong>6/22 Alzheimer&#39\;s &amp\; Dementia Conference featuring Jolene Brackey at WITCC Campus</strong></div>\n
LOCATION:1315 Zenith Drive Sioux City
UID:e.769.3484
SEQUENCE:3
DTSTAMP:20260419T230518Z
URL:https://directory.siouxlandchamber.com/events/details/ribbon-cutting-alzheimer-s-association-3484
END:VEVENT

END:VCALENDAR
