BEGIN:VCALENDAR
VERSION:2.0
PRODID:-//ChamberMaster//Event Calendar 2.0//EN
METHOD:PUBLISH
X-PUBLISHED-TTL:P3D
REFRESH-INTERVAL:P3D
CALSCALE:GREGORIAN
BEGIN:VEVENT
DTSTART:20171108T173000Z
DTEND:20171108T180000Z
X-MICROSOFT-CDO-ALLDAYEVENT:FALSE
SUMMARY:Ribbon Cutting - Adams Homestead & Nature Preserve\, Cottonwood Playground
DESCRIPTION:A Chamber Ribbon Cutting to celebrate the completion of the Cottonwood Playground will take place at the Adams Homestead and Nature Preserve.  The new play area engages children's play through nature and is an outdoor classroom for people to learn about the cottonwood forest ecosystem prevalent at Adams Homestead and Nature Preserve.
X-ALT-DESC;FMTTYPE=text/html:A Chamber Ribbon Cutting to celebrate the completion of the Cottonwood Playground will take place at the Adams Homestead and Nature Preserve. &nbsp\;The new play area engages children&#39\;s play through nature and is an outdoor classroom for people to learn about the cottonwood forest ecosystem prevalent at Adams Homestead and Nature Preserve.&nbsp\;
LOCATION:272 Westshore Drive North Sioux City\, SD
UID:e.769.4577
SEQUENCE:3
DTSTAMP:20260420T061855Z
URL:https://directory.siouxlandchamber.com/events/details/ribbon-cutting-adams-homestead-nature-preserve-cottonwood-playground-4577
END:VEVENT

END:VCALENDAR
