BEGIN:VCALENDAR
VERSION:2.0
PRODID:-//ChamberMaster//Event Calendar 2.0//EN
METHOD:PUBLISH
X-PUBLISHED-TTL:P3D
REFRESH-INTERVAL:P3D
CALSCALE:GREGORIAN
BEGIN:VEVENT
DTSTART:20180216T170000Z
DTEND:20180216T173000Z
X-MICROSOFT-CDO-ALLDAYEVENT:FALSE
SUMMARY:Ribbon Cutting - ActionCOACH
DESCRIPTION:Please join us in welcoming ActionCOACH to the Siouxland Chamber at their upcoming Ribbon Cutting being held at the Chamber.  An Open House until 1:00 PM will follow where Coaches\, Linda Krei and  and Laura Pederson look forward to sharing about the valuable service they can be to your business. \n\n\n\nActionCOACH is a team of committed\, positive and successful people who are always striving to be balanced\, integral and honest. We will work within our "14 Points of Culture" to make sure that everyone who touches\, or is touched by the ActionCOACH team\, will benefit greatly and in some way move closer to becoming the person they want to be or achieve the goals they want to achieve.
X-ALT-DESC;FMTTYPE=text/html:<span style="font-family:arial narrow\,sans-serif\;"><span style="font-size:11.0pt\;">Please join us in welcoming ActionCOACH to the Siouxland Chamber at their upcoming Ribbon Cutting being held at the Chamber.&nbsp\; An Open House until 1:00 PM will follow where Coaches\, Linda Krei and&nbsp\;&nbsp\;and Laura Pederson look forward to sharing about the valuable service they can be to your business.&nbsp\;<br />\n<br />\nActionCOACH is a team of committed\, positive and successful people who are always striving to be balanced\, integral and honest. We will work within our &ldquo\;14 Points of Culture&rdquo\; to make sure that everyone who touches\, or is touched by the ActionCOACH team\, will benefit greatly and in some way move closer to becoming the person they want to be or achieve the goals they want to achieve.&nbsp\;&nbsp\;</span></span>
LOCATION:Hosted at the Siouxland Chamber of Commerce 101 Pierce Street
UID:e.769.4647
SEQUENCE:3
DTSTAMP:20260420T115616Z
URL:https://directory.siouxlandchamber.com/events/details/ribbon-cutting-actioncoach-4647
END:VEVENT

END:VCALENDAR
