BEGIN:VCALENDAR
VERSION:2.0
PRODID:-//ChamberMaster//Event Calendar 2.0//EN
METHOD:PUBLISH
X-PUBLISHED-TTL:P3D
REFRESH-INTERVAL:P3D
CALSCALE:GREGORIAN
BEGIN:VEVENT
DTSTART:20170711T210000Z
DTEND:20170711T213000Z
X-MICROSOFT-CDO-ALLDAYEVENT:FALSE
SUMMARY:Ribbon Cutting - Academy of Fine Music
DESCRIPTION:The Academy of Fine Music has recently joined the Chamber and we will officially welcome them with a Chamber Ribbon Cutting.  Please join us and learn about the music instruction for all ages\, levels\, and numerous instruments.  An Open House will follow with refreshments until 7:30 PM.
X-ALT-DESC;FMTTYPE=text/html:<span style="font-family:trebuchet ms\,sans-serif\;"><span style="font-size:10pt\;">The Academy of Fine Music has recently joined the Chamber and we will officially welcome them with a Chamber Ribbon Cutting.&nbsp\; Please join us and learn about the music instruction for all ages\, levels\, and numerous instruments. &nbsp\;An Open House will follow with refreshments until 7:30 PM.</span></span>
LOCATION:1244 River Drive North Sioux City\, SD
UID:e.769.3525
SEQUENCE:3
DTSTAMP:20260420T015815Z
URL:https://directory.siouxlandchamber.com/events/details/ribbon-cutting-academy-of-fine-music-3525
END:VEVENT

END:VCALENDAR
