BEGIN:VCALENDAR
VERSION:2.0
PRODID:-//ChamberMaster//Event Calendar 2.0//EN
METHOD:PUBLISH
X-PUBLISHED-TTL:P3D
REFRESH-INTERVAL:P3D
CALSCALE:GREGORIAN
BEGIN:VEVENT
DTSTART:20160511T213000Z
DTEND:20160512T000000Z
X-MICROSOFT-CDO-ALLDAYEVENT:FALSE
SUMMARY:Ribbon Cutting - A La Mode
DESCRIPTION:A La Mode\, a unique boutique\, will be celebrating their new location with a ribbon cutting ceremony and an open house following.  Please join in the festivities.  Wine\, hors d'oeuvres\, and desserts will be served along with a gift with purchase and free giveaways while supplies last!
X-ALT-DESC;FMTTYPE=text/html:A La Mode\, a unique boutique\, will be celebrating their new location with a ribbon cutting ceremony and an open house following. &nbsp\;Please join in the festivities. &nbsp\;Wine\,&nbsp\;hors d&#39\;oeuvres\, and desserts will be served along with a gift with purchase and free giveaways while supplies last!
LOCATION:5001 Sergeant Road\, Suite 390 (Lakeport Commons\, near Buffalo Wild Wings) 4:30 Ribbon Cutting 4:30-7:00 Open House
UID:e.769.3258
SEQUENCE:3
DTSTAMP:20260421T185150Z
URL:https://directory.siouxlandchamber.com/events/details/ribbon-cutting-a-la-mode-05-11-2016-3258
END:VEVENT

END:VCALENDAR
