BEGIN:VCALENDAR
VERSION:2.0
PRODID:-//ChamberMaster//Event Calendar 2.0//EN
METHOD:PUBLISH
X-PUBLISHED-TTL:P3D
REFRESH-INTERVAL:P3D
CALSCALE:GREGORIAN
BEGIN:VEVENT
DTSTART:20180524T160000Z
DTEND:20180524T163000Z
X-MICROSOFT-CDO-ALLDAYEVENT:FALSE
SUMMARY:Ribbon Cutting - A&B Business Solutions
DESCRIPTION:We will give the official Siouxland Chamber welcome to new member\, A&B Business Solutions at an upcoming ribbon cutting to be held at the Chamber.  A&B is committed to being the very best resource for a wide range of service and product offerings including Managed Print Services\, Managed Document Services\, Office Equipment\, Production Print\, Office Supplies\, Office Furniture\, Purified Water and Gourmet Coffee.  Please join us and learn more.
X-ALT-DESC;FMTTYPE=text/html:We will give the official Siouxland Chamber welcome to new member\, A&amp\;B Business Solutions at an upcoming ribbon cutting to be held at the Chamber.&nbsp\; A&amp\;B is committed to being the very best resource for a wide range of service and product offerings including Managed Print Services\, Managed Document Services\, Office Equipment\, Production Print\, Office Supplies\, Office Furniture\, Purified Water and Gourmet Coffee.&nbsp\; Please join us and learn more.
LOCATION:Hosted at the Siouxland Chamber 101 Pierce Street Sioux City
UID:e.769.4654
SEQUENCE:3
DTSTAMP:20260420T145714Z
URL:https://directory.siouxlandchamber.com/events/details/ribbon-cutting-a-b-business-solutions-4654
END:VEVENT

END:VCALENDAR
