BEGIN:VCALENDAR
VERSION:2.0
PRODID:-//ChamberMaster//Event Calendar 2.0//EN
METHOD:PUBLISH
X-PUBLISHED-TTL:P3D
REFRESH-INTERVAL:P3D
CALSCALE:GREGORIAN
BEGIN:VEVENT
DTSTART:20160505T130000Z
DTEND:20160505T133000Z
X-MICROSOFT-CDO-ALLDAYEVENT:FALSE
SUMMARY:Ribbon Cutting - 9/11 Never Forget Mobile Memorial
DESCRIPTION:Hard Rock Hotel and Casino will host the Grand Opening of the 9/11 Never Forget Mobile Exhibit with a ribbon cutting ceremony.  \n\n \nFor more information on the exhibit\, please click HERE
X-ALT-DESC;FMTTYPE=text/html:Hard Rock Hotel and Casino will host the Grand Opening of the 9/11 Never Forget Mobile Exhibit with a ribbon cutting ceremony. <span style="background-color:#FFFFFF\;">&nbsp\;</span><br />\n&nbsp\;\n<div style="text-align: justify\;"><span style="background-color:#FFFFFF\;"><font color="#2c2c2c" face="Arial\, Helvetica\, sans-serif"><span style="font-size: 13.3333px\; line-height: 21.3333px\;">For more information on the exhibit\, please click <a href="https://sioux-city.org/press-releases/4225-911-never-forget-memorial-exhibit-coming-to-battery-park">HERE</a></span></font></span></div>\n
LOCATION:Hard Rock Hotel & Casino\, Battery Park 111 3rd Street\, Sioux City
UID:e.769.3254
SEQUENCE:3
DTSTAMP:20260421T185512Z
URL:https://directory.siouxlandchamber.com/events/details/ribbon-cutting-9-11-never-forget-mobile-memorial-05-05-2016-3254
END:VEVENT

END:VCALENDAR
