BEGIN:VCALENDAR
VERSION:2.0
PRODID:-//ChamberMaster//Event Calendar 2.0//EN
METHOD:PUBLISH
X-PUBLISHED-TTL:P3D
REFRESH-INTERVAL:P3D
CALSCALE:GREGORIAN
BEGIN:VEVENT
DTSTART:20170907T223000Z
DTEND:20170907T230000Z
X-MICROSOFT-CDO-ALLDAYEVENT:FALSE
SUMMARY:Ribbon Cutting - Eakes Office Solutions - Janitor Depot
DESCRIPTION:Eakes Office Solutions has expanded into the Siouxland area in a merger with Janitor Depot.  They invite you to celebrate with them at their upcoming Ribbon Cutting Open House featuring a product show while you enjoy drinks\, food\, musical entertainment and door prizes.  Offering office and janitorial supplies\, copiers and printers\, and furniture Eakes Office Solutions - Janitor Depot can now serve all your business needs.
X-ALT-DESC;FMTTYPE=text/html:Eakes Office Solutions has expanded into the Siouxland area in a merger with Janitor Depot. &nbsp\;They invite you to celebrate with them at their upcoming Ribbon Cutting Open House featuring a product show while you enjoy drinks\, food\, musical entertainment and door prizes. &nbsp\;Offering office and janitorial supplies\, copiers and printers\, and furniture Eakes&nbsp\;Office Solutions - Janitor Depot can now serve all your business needs.
LOCATION:510 W. 13th Street\, South Sioux City\, NE
UID:e.769.3546
SEQUENCE:3
DTSTAMP:20260420T032104Z
URL:https://directory.siouxlandchamber.com/events/details/ribbon-cutting-3546
END:VEVENT

END:VCALENDAR
