BEGIN:VCALENDAR
VERSION:2.0
PRODID:-//ChamberMaster//Event Calendar 2.0//EN
METHOD:PUBLISH
X-PUBLISHED-TTL:P3D
REFRESH-INTERVAL:P3D
CALSCALE:GREGORIAN
BEGIN:VEVENT
DTSTART:20171003T210000Z
DTEND:20171003T213000Z
X-MICROSOFT-CDO-ALLDAYEVENT:FALSE
SUMMARY:Ribbon Cutting - 103 Virginia Square
DESCRIPTION:Ho-Chunk Capital is proud to host a Ribbon Cutting and Open House from 4:00 to 6:00 PM for their newest downtown historic building renovation\, 103 Virginia Square.  The property features one and two bedroom apartments for lease\, two bedroom condominiums for sale\, and commercial space.
X-ALT-DESC;FMTTYPE=text/html:Ho-Chunk Capital is proud to host a Ribbon Cutting and Open House from 4:00 to 6:00 PM for their newest downtown historic building renovation\, 103 Virginia Square. &nbsp\;The property features one and two bedroom apartments for lease\, two bedroom condominiums for sale\, and commercial space. &nbsp\;
LOCATION:103 Virginia Street\, Sioux City
UID:e.769.3557
SEQUENCE:3
DTSTAMP:20260420T061414Z
URL:https://directory.siouxlandchamber.com/events/details/ribbon-cutting-103-virginia-square-3557
END:VEVENT

END:VCALENDAR
