BEGIN:VCALENDAR
VERSION:2.0
PRODID:-//ChamberMaster//Event Calendar 2.0//EN
METHOD:PUBLISH
X-PUBLISHED-TTL:P3D
REFRESH-INTERVAL:P3D
CALSCALE:GREGORIAN
BEGIN:VEVENT
DTSTART:20170908T213000Z
DTEND:20170908T220000Z
X-MICROSOFT-CDO-ALLDAYEVENT:FALSE
SUMMARY:Ribbon Cutting - 1000 Degrees Neapolitan Pizzeria
DESCRIPTION:Join us for a ribbon cutting at 1000 Degrees Neapolitan Pizzeria and celebrate their new Chamber membership.  1000 Degrees offers a build your own pizza line\, salads\, fire roasted wings in 6 flavors\, and breadsticks.  So\, stop by with your friends for a bite before the game or take some pizzas home and enjoy a Chamber Member Special.
X-ALT-DESC;FMTTYPE=text/html:Join us for a ribbon cutting at 1000 Degrees Neapolitan Pizzeria and celebrate their new Chamber membership. &nbsp\;<span style="color: rgb(51\, 51\, 51)\; font-family: sans-serif\, Arial\, Verdana\, &quot\;Trebuchet MS&quot\;\; font-size: 13px\; background-color: rgb(255\, 255\, 255)\;">1000 Degrees offers a build your own pizza line\, salads\, fire roasted wings in 6 flavors\, and breadsticks</span>.&nbsp\; So\, stop by with your friends for a bite before the game or take some pizzas home <span style="color: rgb(51\, 51\, 51)\; font-family: sans-serif\, Arial\, Verdana\, &quot\;Trebuchet MS&quot\;\; font-size: 13px\; background-color: rgb(255\, 255\, 255)\;">and enjoy a Chamber Member Special.</span>
LOCATION:1388 Hamilton Boulevard\, Sioux City
UID:e.769.3555
SEQUENCE:3
DTSTAMP:20260420T033236Z
URL:https://directory.siouxlandchamber.com/events/details/ribbon-cutting-1000-degrees-neapolitan-pizzeria-3555
END:VEVENT

END:VCALENDAR
