BEGIN:VCALENDAR
VERSION:2.0
PRODID:-//ChamberMaster//Event Calendar 2.0//EN
METHOD:PUBLISH
X-PUBLISHED-TTL:P3D
REFRESH-INTERVAL:P3D
CALSCALE:GREGORIAN
BEGIN:VEVENT
DTSTART:20170727T143000Z
DTEND:20170727T150000Z
X-MICROSOFT-CDO-ALLDAYEVENT:FALSE
SUMMARY:Ribbon Cutting - 1 Vision Aviation
DESCRIPTION:1 Vision Aviation is an exciting new Chamber member we will officially welcome when they host a Ribbon Cutting Ceremony complete with donuts\, coffee\, and large aircraft.  CEO\, Jim Sponder\, will give you a first-hand look at a large plane being serviced next week and explain the work they do.  Headquartered in Sioux City\, 1 Vision Aviation is a Repair Station and Maintenance Repair Operation that is engaged in supporting aircraft maintenance\, flight operations\, and safety management throughout the US\, Carribbean\, Mexico\, Canada\, and Africa for airline operators.
X-ALT-DESC;FMTTYPE=text/html:1 Vision Aviation is an exciting new Chamber member we will officially welcome when they host a Ribbon Cutting Ceremony complete with donuts\, coffee\, and large aircraft. &nbsp\;<span style="color: rgb(51\, 51\, 51)\; font-family: sans-serif\, Arial\, Verdana\, &quot\;Trebuchet MS&quot\;\; font-size: 13px\; background-color: rgb(255\, 255\, 255)\;">CEO\, Jim&nbsp\;</span>Sponder<span style="color: rgb(51\, 51\, 51)\; font-family: sans-serif\, Arial\, Verdana\, &quot\;Trebuchet MS&quot\;\; font-size: 13px\; background-color: rgb(255\, 255\, 255)\;">\, will give you&nbsp\;a first-hand look at a large plane being serviced next week and explain the work they do. &nbsp\;Headquartered in Sioux City\,&nbsp\;</span>1 Vision Aviation is a Repair Station and Maintenance Repair Operation that is engaged in supporting aircraft maintenance\, flight operations\, and safety management throughout the US\, Carribbean\, Mexico\, Canada\, and Africa for airline operators. &nbsp\;
LOCATION:2500 Keukuk Avenue\, Sioux City
UID:e.769.3539
SEQUENCE:3
DTSTAMP:20260420T003143Z
URL:https://directory.siouxlandchamber.com/events/details/ribbon-cutting-1-vision-aviation-3539
END:VEVENT

END:VCALENDAR
