BEGIN:VCALENDAR
VERSION:2.0
PRODID:-//ChamberMaster//Event Calendar 2.0//EN
METHOD:PUBLISH
X-PUBLISHED-TTL:P3D
REFRESH-INTERVAL:P3D
CALSCALE:GREGORIAN
BEGIN:VEVENT
DTSTART:20170119T223000Z
DTEND:20170120T000000Z
X-MICROSOFT-CDO-ALLDAYEVENT:FALSE
SUMMARY:RHC - M's on 4th
DESCRIPTION:M's on 4th will host January's Rush Hour Connect to celebrate their recent opening.  Dan Myers and Vernon Meyer welcome you to January's Rush Hour Connect and hope you can join them to celebrate their recent grand opening. M's offers a fine balance of Italian pasta and entrees\, steak\, seafood\, fish\, and vegetarian entrees.  Pair these up with their extensive line of wines and you will love your experience.\n\n\n\nRush Hour Connect is your fastest meeting of the day giving you a chance to gear down and have fun.  Come for 15 minutes or stay for an hour and make some great connections!
X-ALT-DESC;FMTTYPE=text/html:M&#39\;s on 4th will host January&#39\;s Rush Hour Connect to celebrate their recent opening. &nbsp\;Dan Myers and Vernon Meyer welcome you to January&#39\;s Rush Hour Connect and hope you can join them to celebrate their recent grand opening. M&#39\;s offers a fine balance of Italian pasta and entrees\, steak\, seafood\, fish\, and vegetarian entrees. &nbsp\;Pair these up with their extensive line of wines and you will love your experience.<br />\n<br />\n<span background-color:="" font-size:="" line-height:="" style="color: rgb(51\, 51\, 51)\; font-family: sans-serif\, Arial\, Verdana\, " trebuchet="">Rush Hour Connect is your fastest meeting of the day giving you a chance to gear down and have fun. &nbsp\;Come for 15 minutes or stay for an hour and make some great connections!</span>
LOCATION:1021 4th Street Sioux City
UID:e.769.3305
SEQUENCE:3
DTSTAMP:20260419T151156Z
URL:https://directory.siouxlandchamber.com/events/details/rhc-m-s-on-4th-3305
END:VEVENT

END:VCALENDAR
