BEGIN:VCALENDAR
VERSION:2.0
PRODID:-//ChamberMaster//Event Calendar 2.0//EN
METHOD:PUBLISH
X-PUBLISHED-TTL:P3D
REFRESH-INTERVAL:P3D
CALSCALE:GREGORIAN
BEGIN:VEVENT
DTSTART:20160414T180000Z
DTEND:20160414T183000Z
X-MICROSOFT-CDO-ALLDAYEVENT:FALSE
SUMMARY:RC Unity Point Health St Lukes Pace Clinic
DESCRIPTION:Unity Point Health St Lukes will celebrate the Grand Opening of their new Pace Clinic with a Ribbon Cutting and Open House.
X-ALT-DESC;FMTTYPE=text/html:Unity Point Health St Lukes will celebrate the Grand Opening of their new Pace Clinic with a Ribbon Cutting and Open House.
LOCATION:1200 Tri-View Avenue (off Hamilton Blvd by Horizon Restaurant)
UID:e.769.3205
SEQUENCE:3
DTSTAMP:20260421T201333Z
URL:https://directory.siouxlandchamber.com/events/details/rc-unity-point-health-st-lukes-pace-clinic-04-14-2016-3205
END:VEVENT

END:VCALENDAR
