BEGIN:VCALENDAR
VERSION:2.0
PRODID:-//ChamberMaster//Event Calendar 2.0//EN
METHOD:PUBLISH
X-PUBLISHED-TTL:P3D
REFRESH-INTERVAL:P3D
CALSCALE:GREGORIAN
BEGIN:VEVENT
DTSTART:20160113T190000Z
DTEND:20160113T193000Z
X-MICROSOFT-CDO-ALLDAYEVENT:FALSE
SUMMARY:RC Translation\, Immigration & Income Tax Assistance Services
DESCRIPTION:Ribbon Cutting at 1:00 pm\n\nOpen House 1:00 - 4:30 pm\n\n\n\nTranslation\, Immigration & Income Tax Assistant Services is celebrating their newly remodeled office space.
X-ALT-DESC;FMTTYPE=text/html:Ribbon Cutting at 1:00 pm<br />\nOpen House 1:00 - 4:30 pm<br />\n<br />\nTranslation\, Immigration &amp\; Income Tax Assistant Services is celebrating their newly remodeled office space.<br />\n&nbsp\;
LOCATION:Translation\, Immigration & Income Tax Assistant Services Michael Bayala\, CEO 2619 Correctionville Road Sioux City
UID:e.769.2198
SEQUENCE:3
DTSTAMP:20260421T160343Z
URL:https://directory.siouxlandchamber.com/events/details/rc-translation-immigration-income-tax-assistance-services-01-13-2016-2198
END:VEVENT

END:VCALENDAR
