BEGIN:VCALENDAR
VERSION:2.0
PRODID:-//ChamberMaster//Event Calendar 2.0//EN
METHOD:PUBLISH
X-PUBLISHED-TTL:P3D
REFRESH-INTERVAL:P3D
CALSCALE:GREGORIAN
BEGIN:VEVENT
DTSTART:20160114T160000Z
DTEND:20160114T170000Z
X-MICROSOFT-CDO-ALLDAYEVENT:FALSE
SUMMARY:RC Therapeutic Reflections\, Inc.
DESCRIPTION:Therapeutic Reflections\, Inc. is holding a Ribbon Cutting and Open House to celebrate their recent grand opening.
X-ALT-DESC;FMTTYPE=text/html:Therapeutic Reflections\, Inc. is holding a Ribbon Cutting and Open House to celebrate their recent grand opening.
LOCATION:Therapeutic Reflections\, Inc. Amy Hecht\, LMHC NCC IADC 520 14th Street Sioux City\, IA 51105
UID:e.769.2197
SEQUENCE:3
DTSTAMP:20260421T172210Z
URL:https://directory.siouxlandchamber.com/events/details/rc-therapeutic-reflections-inc-01-14-2016-2197
END:VEVENT

END:VCALENDAR
