BEGIN:VCALENDAR
VERSION:2.0
PRODID:-//ChamberMaster//Event Calendar 2.0//EN
METHOD:PUBLISH
X-PUBLISHED-TTL:P3D
REFRESH-INTERVAL:P3D
CALSCALE:GREGORIAN
BEGIN:VEVENT
DTSTART:20160129T160000Z
DTEND:20160129T180000Z
X-MICROSOFT-CDO-ALLDAYEVENT:FALSE
SUMMARY:RC Science Nutrition
DESCRIPTION:Science Nutrition is holding a Ribbon Cutting and Open House to celebrate their newly opened 2nd location.
X-ALT-DESC;FMTTYPE=text/html:Science Nutrition is holding a Ribbon Cutting and Open House to celebrate their newly opened 2nd location.
LOCATION:5712 Sunnybrook Drive Sioux City
UID:e.769.2199
SEQUENCE:3
DTSTAMP:20260421T172046Z
URL:https://directory.siouxlandchamber.com/events/details/rc-science-nutrition-01-29-2016-2199
END:VEVENT

END:VCALENDAR
