BEGIN:VCALENDAR
VERSION:2.0
PRODID:-//ChamberMaster//Event Calendar 2.0//EN
METHOD:PUBLISH
X-PUBLISHED-TTL:P3D
REFRESH-INTERVAL:P3D
CALSCALE:GREGORIAN
BEGIN:VEVENT
DTSTART:20160518T170000Z
DTEND:20160518T173000Z
X-MICROSOFT-CDO-ALLDAYEVENT:FALSE
SUMMARY:RC Sanford Health - Heart and Vascular
DESCRIPTION:A ribbon cutting ceremony will be held to celebrate the grand opening of Sanford Health - Heart and Vascular in Dakota Dunes.  An Open House will follow the ceremony.  Please join us in helping new Siouxland Chamber Member to the area!
X-ALT-DESC;FMTTYPE=text/html:A ribbon cutting ceremony will be held to celebrate the grand opening of Sanford Health - Heart and Vascular in Dakota Dunes. &nbsp\;An Open House will follow the ceremony. &nbsp\;Please join us in helping new Siouxland Chamber Member to the area!
LOCATION:350 Oak Tree Lane Dakota Dunes
UID:e.769.3216
SEQUENCE:3
DTSTAMP:20260421T185906Z
URL:https://directory.siouxlandchamber.com/events/details/rc-sanford-health-heart-and-vascular-05-18-2016-3216
END:VEVENT

END:VCALENDAR
