BEGIN:VCALENDAR
VERSION:2.0
PRODID:-//ChamberMaster//Event Calendar 2.0//EN
METHOD:PUBLISH
X-PUBLISHED-TTL:P3D
REFRESH-INTERVAL:P3D
CALSCALE:GREGORIAN
BEGIN:VEVENT
DTSTART:20160118T220000Z
DTEND:20160118T230000Z
X-MICROSOFT-CDO-ALLDAYEVENT:FALSE
SUMMARY:RC - New Horizon Tutoring
DESCRIPTION:New Horizon Tutoring will hold a Ribbon Cutting ceremony to celebrate their new location on January18th\, 2016 with an Open House following until 6:00.
X-ALT-DESC;FMTTYPE=text/html:New Horizon Tutoring will hold a Ribbon Cutting ceremony to celebrate their new location on January18th\, 2016 with an Open House following until 6:00.
LOCATION:705 Sioux Point Road Dakota Dunes\, SD
UID:e.769.2203
SEQUENCE:3
DTSTAMP:20260421T155804Z
URL:https://directory.siouxlandchamber.com/events/details/rc-new-horizon-tutoring-01-18-2016-2203
END:VEVENT

END:VCALENDAR
