BEGIN:VCALENDAR
VERSION:2.0
PRODID:-//ChamberMaster//Event Calendar 2.0//EN
METHOD:PUBLISH
X-PUBLISHED-TTL:P3D
REFRESH-INTERVAL:P3D
CALSCALE:GREGORIAN
BEGIN:VEVENT
DTSTART:20160818T211500Z
DTEND:20160818T213000Z
X-MICROSOFT-CDO-ALLDAYEVENT:FALSE
SUMMARY:RC-IA Statewide Poison Control Center
DESCRIPTION:Iowa Statewide Poison Control Center has moved to a larger suite in the MidAmerican Energy Building and will celebrate with a 4:15 ribbon cutting and kick off to Rush Hour Connect jointly hosted with MidAmerican Energy.  Please join us in applauding their recent growth.
X-ALT-DESC;FMTTYPE=text/html:Iowa Statewide Poison Control Center has moved to a larger suite in the MidAmerican Energy Building and will celebrate with a 4:15 ribbon cutting and kick off to Rush Hour Connect jointly hosted with MidAmerican Energy. &nbsp\;Please join us in applauding their recent growth.<br />\n&nbsp\;
LOCATION:401 Douglas Street\, Suite 500 Sioux City
UID:e.769.3326
SEQUENCE:3
DTSTAMP:20260421T160958Z
URL:https://directory.siouxlandchamber.com/events/details/rc-ia-statewide-poison-control-center-08-18-2016-3326
END:VEVENT

END:VCALENDAR
