BEGIN:VCALENDAR
VERSION:2.0
PRODID:-//ChamberMaster//Event Calendar 2.0//EN
METHOD:PUBLISH
X-PUBLISHED-TTL:P3D
REFRESH-INTERVAL:P3D
CALSCALE:GREGORIAN
BEGIN:VEVENT
DTSTART:20151106T150000Z
DTEND:20151106T160000Z
X-MICROSOFT-CDO-ALLDAYEVENT:FALSE
SUMMARY:RC for Singing Hills Walmart
DESCRIPTION:Ribbon Cutting at 9:00AM to celebrate remodel
X-ALT-DESC;FMTTYPE=text/html:Ribbon Cutting at 9:00AM to celebrate remodel
LOCATION:3400 Singing Hills Blvd.
UID:e.769.2183
SEQUENCE:3
DTSTAMP:20260421T130222Z
URL:https://directory.siouxlandchamber.com/events/details/rc-for-singing-hills-walmart-11-06-2015-2183
END:VEVENT

END:VCALENDAR
