BEGIN:VCALENDAR
VERSION:2.0
PRODID:-//ChamberMaster//Event Calendar 2.0//EN
METHOD:PUBLISH
X-PUBLISHED-TTL:P3D
REFRESH-INTERVAL:P3D
CALSCALE:GREGORIAN
BEGIN:VEVENT
DTSTART:20151105T163000Z
DTEND:20151105T173000Z
X-MICROSOFT-CDO-ALLDAYEVENT:FALSE
SUMMARY:RC for New Pediatric Patient Room At UnityPoint
DESCRIPTION:The renovation of the a pediatric patient room into a car-themed room was made possible by Sioux City Lincoln Ford.\n\n\n\nA ribbon cutting and open house is Thursday\, November 5th at 10:30 am with the unveiling of the room.
X-ALT-DESC;FMTTYPE=text/html:<span style="font-size: medium\;"><span style="font-family: calibri\;">The&nbsp\;renovation of the&nbsp\;a pediatric patient room into a car-themed room was made possible by Sioux City Lincoln Ford.</span></span><br />\n<br />\n<span style="font-size: medium\;"><span style="font-family: calibri\;">A ribbon cutting and open house is Thursday\, November 5<sup><span style="font-size: small\;">th</span></sup> at 10:30&nbsp\;am with the unveiling of&nbsp\;the room. </span></span><br />\n<br />\n&nbsp\;
LOCATION:
UID:e.769.2174
SEQUENCE:3
DTSTAMP:20260421T143449Z
URL:https://directory.siouxlandchamber.com/events/details/rc-for-new-pediatric-patient-room-at-unitypoint-11-05-2015-2174
END:VEVENT

END:VCALENDAR
