BEGIN:VCALENDAR
VERSION:2.0
PRODID:-//ChamberMaster//Event Calendar 2.0//EN
METHOD:PUBLISH
X-PUBLISHED-TTL:P3D
REFRESH-INTERVAL:P3D
CALSCALE:GREGORIAN
BEGIN:VEVENT
DTSTART:20151105T223000Z
DTEND:20151106T010000Z
X-MICROSOFT-CDO-ALLDAYEVENT:FALSE
SUMMARY:RC for Keller Williams Siouxland
DESCRIPTION:Ribbon Cutting at 4:30 PM\n\nOpen House 4:30 PM - 7:00 PM
X-ALT-DESC;FMTTYPE=text/html:Ribbon Cutting at 4:30 PM<br />\nOpen House 4:30 PM - 7:00 PM
LOCATION:600 4th St. Ste 100
UID:e.769.2177
SEQUENCE:3
DTSTAMP:20260421T131136Z
URL:https://directory.siouxlandchamber.com/events/details/rc-for-keller-williams-siouxland-11-05-2015-2177
END:VEVENT

END:VCALENDAR
